BEGIN:VCALENDAR
VERSION:2.0
PRODID:-//Basilico - ECPv6.15.17.1//NONSGML v1.0//EN
CALSCALE:GREGORIAN
METHOD:PUBLISH
X-WR-CALNAME:Basilico
X-ORIGINAL-URL:https://basilicolv.com
X-WR-CALDESC:Events for Basilico
REFRESH-INTERVAL;VALUE=DURATION:PT1H
X-Robots-Tag:noindex
X-PUBLISHED-TTL:PT1H
BEGIN:VTIMEZONE
TZID:America/Los_Angeles
BEGIN:DAYLIGHT
TZOFFSETFROM:-0800
TZOFFSETTO:-0700
TZNAME:PDT
DTSTART:20240310T100000
END:DAYLIGHT
BEGIN:STANDARD
TZOFFSETFROM:-0700
TZOFFSETTO:-0800
TZNAME:PST
DTSTART:20241103T090000
END:STANDARD
BEGIN:DAYLIGHT
TZOFFSETFROM:-0800
TZOFFSETTO:-0700
TZNAME:PDT
DTSTART:20250309T100000
END:DAYLIGHT
BEGIN:STANDARD
TZOFFSETFROM:-0700
TZOFFSETTO:-0800
TZNAME:PST
DTSTART:20251102T090000
END:STANDARD
BEGIN:DAYLIGHT
TZOFFSETFROM:-0800
TZOFFSETTO:-0700
TZNAME:PDT
DTSTART:20260308T100000
END:DAYLIGHT
BEGIN:STANDARD
TZOFFSETFROM:-0700
TZOFFSETTO:-0800
TZNAME:PST
DTSTART:20261101T090000
END:STANDARD
END:VTIMEZONE
BEGIN:VEVENT
DTSTART;TZID=America/Los_Angeles:20251021T170000
DTEND;TZID=America/Los_Angeles:20251021T190000
DTSTAMP:20260420T165543
CREATED:20250918T191648Z
LAST-MODIFIED:20251007T170155Z
UID:10000432-1761066000-1761073200@basilicolv.com
SUMMARY:Cocktail Class at Basilico
DESCRIPTION:Join us for a cocktail class at Basilico Ristorante Italiano with spirits expert\, Rudy Aguas. Class will be held on October 21\, 2025. Participants will learn to mix three elevated cocktails and leave with skills to wow your friends. \nGet your tickets here: https://www.eventbrite.com/e/cocktail-class-at-basilico-tickets-1712375173239
URL:https://basilicolv.com/event/cocktail-classes-at-basilico/2025-10-21/
LOCATION:BASILICO RISTORANTE ITALIANO\, 6111 S. BUFFALO DRIVE\, SUITE 100\, Las Vegas\, 89113\, United States
CATEGORIES:Cocktail Classes
ATTACH;FMTTYPE=image/png:https://basilicolv.com/wp-content/uploads/2025/09/Cocktail-classes.png
END:VEVENT
END:VCALENDAR