BEGIN:VCALENDAR
VERSION:2.0
PRODID:-//Basilico - ECPv6.15.17.1//NONSGML v1.0//EN
CALSCALE:GREGORIAN
METHOD:PUBLISH
X-ORIGINAL-URL:https://basilicolv.com
X-WR-CALDESC:Events for Basilico
REFRESH-INTERVAL;VALUE=DURATION:PT1H
X-Robots-Tag:noindex
X-PUBLISHED-TTL:PT1H
BEGIN:VTIMEZONE
TZID:America/Los_Angeles
BEGIN:DAYLIGHT
TZOFFSETFROM:-0800
TZOFFSETTO:-0700
TZNAME:PDT
DTSTART:20240310T100000
END:DAYLIGHT
BEGIN:STANDARD
TZOFFSETFROM:-0700
TZOFFSETTO:-0800
TZNAME:PST
DTSTART:20241103T090000
END:STANDARD
BEGIN:DAYLIGHT
TZOFFSETFROM:-0800
TZOFFSETTO:-0700
TZNAME:PDT
DTSTART:20250309T100000
END:DAYLIGHT
BEGIN:STANDARD
TZOFFSETFROM:-0700
TZOFFSETTO:-0800
TZNAME:PST
DTSTART:20251102T090000
END:STANDARD
BEGIN:DAYLIGHT
TZOFFSETFROM:-0800
TZOFFSETTO:-0700
TZNAME:PDT
DTSTART:20260308T100000
END:DAYLIGHT
BEGIN:STANDARD
TZOFFSETFROM:-0700
TZOFFSETTO:-0800
TZNAME:PST
DTSTART:20261101T090000
END:STANDARD
END:VTIMEZONE
BEGIN:VEVENT
DTSTART;TZID=America/Los_Angeles:20251010T210000
DTEND;TZID=America/Los_Angeles:20251011T000000
DTSTAMP:20260420T171406
CREATED:20251006T181300Z
LAST-MODIFIED:20251006T181300Z
UID:10000448-1760130000-1760140800@basilicolv.com
SUMMARY:Late Night with DJ Carolina
DESCRIPTION:
URL:https://basilicolv.com/event/late-night-with-dj-carolina/
LOCATION:BASILICO RISTORANTE ITALIANO\, 6111 S. BUFFALO DRIVE\, SUITE 100\, Las Vegas\, 89113\, United States
ATTACH;FMTTYPE=image/png:https://basilicolv.com/wp-content/uploads/2025/10/late-night-october-10.png
END:VEVENT
END:VCALENDAR